BEGIN:VCALENDAR
VERSION:2.0
PRODID:-//The Fathers of Mercy - ECPv6.15.18//NONSGML v1.0//EN
CALSCALE:GREGORIAN
METHOD:PUBLISH
X-ORIGINAL-URL:https://fathersofmercy.com
X-WR-CALDESC:Events for The Fathers of Mercy
REFRESH-INTERVAL;VALUE=DURATION:PT1H
X-Robots-Tag:noindex
X-PUBLISHED-TTL:PT1H
BEGIN:VTIMEZONE
TZID:America/Chicago
BEGIN:DAYLIGHT
TZOFFSETFROM:-0600
TZOFFSETTO:-0500
TZNAME:CDT
DTSTART:20240310T080000
END:DAYLIGHT
BEGIN:STANDARD
TZOFFSETFROM:-0500
TZOFFSETTO:-0600
TZNAME:CST
DTSTART:20241103T070000
END:STANDARD
BEGIN:DAYLIGHT
TZOFFSETFROM:-0600
TZOFFSETTO:-0500
TZNAME:CDT
DTSTART:20250309T080000
END:DAYLIGHT
BEGIN:STANDARD
TZOFFSETFROM:-0500
TZOFFSETTO:-0600
TZNAME:CST
DTSTART:20251102T070000
END:STANDARD
BEGIN:DAYLIGHT
TZOFFSETFROM:-0600
TZOFFSETTO:-0500
TZNAME:CDT
DTSTART:20260308T080000
END:DAYLIGHT
BEGIN:STANDARD
TZOFFSETFROM:-0500
TZOFFSETTO:-0600
TZNAME:CST
DTSTART:20261101T070000
END:STANDARD
END:VTIMEZONE
BEGIN:VEVENT
DTSTART;VALUE=DATE:20251018
DTEND;VALUE=DATE:20251022
DTSTAMP:20260422T092814
CREATED:20250702T200509Z
LAST-MODIFIED:20250702T200509Z
UID:10001462-1760745600-1761091199@fathersofmercy.com
SUMMARY:PARISH MISSION\, St. Teresa's Catholic Church\, Albany\, GA
DESCRIPTION:St. Teresa’s Catholic Church\, Albany\, Georgia
URL:https://fathersofmercy.com/event/parish-mission-st-teresas-catholic-church-albany-ga/
LOCATION:St. Teresa’s Catholic Church\, 421 Edgewood Lane\, Albany\, GA\, 31707\, United States
CATEGORIES:Mission
ATTACH;FMTTYPE=image/jpeg:https://fathersofmercy.com/wp-content/uploads/2025/07/St.-Teresas-Catholic-Church-Albany-GA.jpg
GEO:31.583583;-84.1894351
X-APPLE-STRUCTURED-LOCATION;VALUE=URI;X-ADDRESS=St. Teresa’s Catholic Church 421 Edgewood Lane Albany GA 31707 United States;X-APPLE-RADIUS=500;X-TITLE=421 Edgewood Lane:geo:-84.1894351,31.583583
END:VEVENT
END:VCALENDAR