BEGIN:VCALENDAR
VERSION:2.0
PRODID:-//The Fathers of Mercy - ECPv6.15.18//NONSGML v1.0//EN
CALSCALE:GREGORIAN
METHOD:PUBLISH
X-ORIGINAL-URL:https://fathersofmercy.com
X-WR-CALDESC:Events for The Fathers of Mercy
REFRESH-INTERVAL;VALUE=DURATION:PT1H
X-Robots-Tag:noindex
X-PUBLISHED-TTL:PT1H
BEGIN:VTIMEZONE
TZID:America/Chicago
BEGIN:DAYLIGHT
TZOFFSETFROM:-0600
TZOFFSETTO:-0500
TZNAME:CDT
DTSTART:20170312T080000
END:DAYLIGHT
BEGIN:STANDARD
TZOFFSETFROM:-0500
TZOFFSETTO:-0600
TZNAME:CST
DTSTART:20171105T070000
END:STANDARD
BEGIN:DAYLIGHT
TZOFFSETFROM:-0600
TZOFFSETTO:-0500
TZNAME:CDT
DTSTART:20180311T080000
END:DAYLIGHT
BEGIN:STANDARD
TZOFFSETFROM:-0500
TZOFFSETTO:-0600
TZNAME:CST
DTSTART:20181104T070000
END:STANDARD
BEGIN:DAYLIGHT
TZOFFSETFROM:-0600
TZOFFSETTO:-0500
TZNAME:CDT
DTSTART:20190310T080000
END:DAYLIGHT
BEGIN:STANDARD
TZOFFSETFROM:-0500
TZOFFSETTO:-0600
TZNAME:CST
DTSTART:20191103T070000
END:STANDARD
END:VTIMEZONE
BEGIN:VEVENT
DTSTART;VALUE=DATE:20181203
DTEND;VALUE=DATE:20181207
DTSTAMP:20260425T122923
CREATED:20180928T022638Z
LAST-MODIFIED:20181127T140029Z
UID:10000816-1543795200-1544140799@fathersofmercy.com
SUMMARY:Parish Mission
DESCRIPTION:Advent Parish Mission – St. Patrick Catholic Church\, Chanute\, KS
URL:https://fathersofmercy.com/event/parish-mission-94/
LOCATION:St. Patrick\, Chanute\, KS\, 424 S Central Ave\, Chanute\, KS\, 66720
CATEGORIES:Mission
ATTACH;FMTTYPE=image/jpeg:https://fathersofmercy.com/wp-content/uploads/2018/09/St-Patrick-Chanute-KS.jpg
GEO:37.6779397;-95.4476879
X-APPLE-STRUCTURED-LOCATION;VALUE=URI;X-ADDRESS=St. Patrick Chanute KS 424 S Central Ave Chanute KS 66720;X-APPLE-RADIUS=500;X-TITLE=424 S Central Ave:geo:-95.4476879,37.6779397
END:VEVENT
END:VCALENDAR