BEGIN:VCALENDAR
VERSION:2.0
PRODID:-//The Fathers of Mercy - ECPv6.15.18//NONSGML v1.0//EN
CALSCALE:GREGORIAN
METHOD:PUBLISH
X-ORIGINAL-URL:https://fathersofmercy.com
X-WR-CALDESC:Events for The Fathers of Mercy
REFRESH-INTERVAL;VALUE=DURATION:PT1H
X-Robots-Tag:noindex
X-PUBLISHED-TTL:PT1H
BEGIN:VTIMEZONE
TZID:America/Chicago
BEGIN:DAYLIGHT
TZOFFSETFROM:-0600
TZOFFSETTO:-0500
TZNAME:CDT
DTSTART:20250309T080000
END:DAYLIGHT
BEGIN:STANDARD
TZOFFSETFROM:-0500
TZOFFSETTO:-0600
TZNAME:CST
DTSTART:20251102T070000
END:STANDARD
BEGIN:DAYLIGHT
TZOFFSETFROM:-0600
TZOFFSETTO:-0500
TZNAME:CDT
DTSTART:20260308T080000
END:DAYLIGHT
BEGIN:STANDARD
TZOFFSETFROM:-0500
TZOFFSETTO:-0600
TZNAME:CST
DTSTART:20261101T070000
END:STANDARD
BEGIN:DAYLIGHT
TZOFFSETFROM:-0600
TZOFFSETTO:-0500
TZNAME:CDT
DTSTART:20270314T080000
END:DAYLIGHT
BEGIN:STANDARD
TZOFFSETFROM:-0500
TZOFFSETTO:-0600
TZNAME:CST
DTSTART:20271107T070000
END:STANDARD
END:VTIMEZONE
BEGIN:VEVENT
DTSTART;VALUE=DATE:20260321
DTEND;VALUE=DATE:20260327
DTSTAMP:20260422T060518
CREATED:20251128T173152Z
LAST-MODIFIED:20251128T173152Z
UID:10001526-1774051200-1774569599@fathersofmercy.com
SUMMARY:PARISH MISSION\, Shrine of Padre Pio Catholic Church\, San Antonio\, TX
DESCRIPTION:Shrine of Padre Pio Catholic Church\, San Antonio\, Texas
URL:https://fathersofmercy.com/event/parish-mission-shrine-of-padre-pio-catholic-church-san-antonio-tx/
LOCATION:Shrine of Padre Pio Catholic Church\, 3843 Bulverde Pkwy\, San Antonio\, 78259
CATEGORIES:Mission
ATTACH;FMTTYPE=image/jpeg:https://fathersofmercy.com/wp-content/uploads/2025/11/Shrine-of-Padre-Pio-Catholic-Church-San-Antonio-Texas.jpg
GEO:29.6348751;-98.4197387
X-APPLE-STRUCTURED-LOCATION;VALUE=URI;X-ADDRESS=Shrine of Padre Pio Catholic Church 3843 Bulverde Pkwy San Antonio 78259;X-APPLE-RADIUS=500;X-TITLE=3843 Bulverde Pkwy:geo:-98.4197387,29.6348751
END:VEVENT
END:VCALENDAR