BEGIN:VCALENDAR
VERSION:2.0
PRODID:-//The Fathers of Mercy - ECPv6.15.18//NONSGML v1.0//EN
CALSCALE:GREGORIAN
METHOD:PUBLISH
X-ORIGINAL-URL:https://fathersofmercy.com
X-WR-CALDESC:Events for The Fathers of Mercy
REFRESH-INTERVAL;VALUE=DURATION:PT1H
X-Robots-Tag:noindex
X-PUBLISHED-TTL:PT1H
BEGIN:VTIMEZONE
TZID:America/Chicago
BEGIN:DAYLIGHT
TZOFFSETFROM:-0600
TZOFFSETTO:-0500
TZNAME:CDT
DTSTART:20190310T080000
END:DAYLIGHT
BEGIN:STANDARD
TZOFFSETFROM:-0500
TZOFFSETTO:-0600
TZNAME:CST
DTSTART:20191103T070000
END:STANDARD
BEGIN:DAYLIGHT
TZOFFSETFROM:-0600
TZOFFSETTO:-0500
TZNAME:CDT
DTSTART:20200308T080000
END:DAYLIGHT
BEGIN:STANDARD
TZOFFSETFROM:-0500
TZOFFSETTO:-0600
TZNAME:CST
DTSTART:20201101T070000
END:STANDARD
BEGIN:DAYLIGHT
TZOFFSETFROM:-0600
TZOFFSETTO:-0500
TZNAME:CDT
DTSTART:20210314T080000
END:DAYLIGHT
BEGIN:STANDARD
TZOFFSETFROM:-0500
TZOFFSETTO:-0600
TZNAME:CST
DTSTART:20211107T070000
END:STANDARD
END:VTIMEZONE
BEGIN:VEVENT
DTSTART;VALUE=DATE:20201003
DTEND;VALUE=DATE:20201008
DTSTAMP:20260420T074516
CREATED:20200910T150758Z
LAST-MODIFIED:20200910T150758Z
UID:10001044-1601683200-1602115199@fathersofmercy.com
SUMMARY:Parish Mission - Sacred Heart\, Rock Island\, IL
DESCRIPTION:Parish Mission – Sacred Heart\, Rock Island\, IL
URL:https://fathersofmercy.com/event/parish-mission-sacred-heart-rock-island-il/
LOCATION:Sacred Heart\, Rock Island\, IL\, 2810 5th Ave\, Rock Island\, IL\, 61201
CATEGORIES:Mission
ATTACH;FMTTYPE=image/jpeg:https://fathersofmercy.com/wp-content/uploads/2020/09/shoutside.jpg
GEO:41.5074953;-90.5605786
X-APPLE-STRUCTURED-LOCATION;VALUE=URI;X-ADDRESS=Sacred Heart Rock Island IL 2810 5th Ave Rock Island IL 61201;X-APPLE-RADIUS=500;X-TITLE=2810 5th Ave:geo:-90.5605786,41.5074953
END:VEVENT
END:VCALENDAR