BEGIN:VCALENDAR
VERSION:2.0
PRODID:-//The Fathers of Mercy - ECPv6.15.18//NONSGML v1.0//EN
CALSCALE:GREGORIAN
METHOD:PUBLISH
X-WR-CALNAME:The Fathers of Mercy
X-ORIGINAL-URL:https://fathersofmercy.com
X-WR-CALDESC:Events for The Fathers of Mercy
REFRESH-INTERVAL;VALUE=DURATION:PT1H
X-Robots-Tag:noindex
X-PUBLISHED-TTL:PT1H
BEGIN:VTIMEZONE
TZID:America/Chicago
BEGIN:DAYLIGHT
TZOFFSETFROM:-0600
TZOFFSETTO:-0500
TZNAME:CDT
DTSTART:20180311T080000
END:DAYLIGHT
BEGIN:STANDARD
TZOFFSETFROM:-0500
TZOFFSETTO:-0600
TZNAME:CST
DTSTART:20181104T070000
END:STANDARD
BEGIN:DAYLIGHT
TZOFFSETFROM:-0600
TZOFFSETTO:-0500
TZNAME:CDT
DTSTART:20190310T080000
END:DAYLIGHT
BEGIN:STANDARD
TZOFFSETFROM:-0500
TZOFFSETTO:-0600
TZNAME:CST
DTSTART:20191103T070000
END:STANDARD
BEGIN:DAYLIGHT
TZOFFSETFROM:-0600
TZOFFSETTO:-0500
TZNAME:CDT
DTSTART:20200308T080000
END:DAYLIGHT
BEGIN:STANDARD
TZOFFSETFROM:-0500
TZOFFSETTO:-0600
TZNAME:CST
DTSTART:20201101T070000
END:STANDARD
END:VTIMEZONE
BEGIN:VEVENT
DTSTART;VALUE=DATE:20190331
DTEND;VALUE=DATE:20190405
DTSTAMP:20260420T072540
CREATED:20190125T210244Z
LAST-MODIFIED:20190125T210244Z
UID:10000925-1553990400-1554422399@fathersofmercy.com
SUMMARY:Lenten Parish Mission
DESCRIPTION:Lenten Parish Mission – Our Lady of the Pines Catholic Church\, Woodville\, TX
URL:https://fathersofmercy.com/event/lenten-parish-mission-23/
LOCATION:Our Lady of the Pines Catholic Church\, Woodville\, TX\, 1601 Pine St\, Woodville\, TX\, 75979
CATEGORIES:Mission
ATTACH;FMTTYPE=image/jpeg:https://fathersofmercy.com/wp-content/uploads/2019/01/Our-Lady-of-the-Pines-Woodville-TX.jpg
GEO:30.7887036;-94.4331061
X-APPLE-STRUCTURED-LOCATION;VALUE=URI;X-ADDRESS=Our Lady of the Pines Catholic Church Woodville TX 1601 Pine St Woodville TX 75979;X-APPLE-RADIUS=500;X-TITLE=1601 Pine St:geo:-94.4331061,30.7887036
END:VEVENT
END:VCALENDAR