BEGIN:VCALENDAR
VERSION:2.0
PRODID:-//The Fathers of Mercy - ECPv6.15.18//NONSGML v1.0//EN
CALSCALE:GREGORIAN
METHOD:PUBLISH
X-ORIGINAL-URL:https://fathersofmercy.com
X-WR-CALDESC:Events for The Fathers of Mercy
REFRESH-INTERVAL;VALUE=DURATION:PT1H
X-Robots-Tag:noindex
X-PUBLISHED-TTL:PT1H
BEGIN:VTIMEZONE
TZID:America/Chicago
BEGIN:DAYLIGHT
TZOFFSETFROM:-0600
TZOFFSETTO:-0500
TZNAME:CDT
DTSTART:20170312T080000
END:DAYLIGHT
BEGIN:STANDARD
TZOFFSETFROM:-0500
TZOFFSETTO:-0600
TZNAME:CST
DTSTART:20171105T070000
END:STANDARD
BEGIN:DAYLIGHT
TZOFFSETFROM:-0600
TZOFFSETTO:-0500
TZNAME:CDT
DTSTART:20180311T080000
END:DAYLIGHT
BEGIN:STANDARD
TZOFFSETFROM:-0500
TZOFFSETTO:-0600
TZNAME:CST
DTSTART:20181104T070000
END:STANDARD
BEGIN:DAYLIGHT
TZOFFSETFROM:-0600
TZOFFSETTO:-0500
TZNAME:CDT
DTSTART:20190310T080000
END:DAYLIGHT
BEGIN:STANDARD
TZOFFSETFROM:-0500
TZOFFSETTO:-0600
TZNAME:CST
DTSTART:20191103T070000
END:STANDARD
END:VTIMEZONE
BEGIN:VEVENT
DTSTART;VALUE=DATE:20180113
DTEND;VALUE=DATE:20180115
DTSTAMP:20260421T191318
CREATED:20171222T170858Z
LAST-MODIFIED:20171222T170947Z
UID:10000623-1515801600-1515974399@fathersofmercy.com
SUMMARY:Eucharistic Boost
DESCRIPTION:Eucharistic Boost (Weekend Masses)\nSts. Peter & Paul Catholic Church \n\n\n902 E 9th St\, Hopkinsville\, KY 42240\n\n\n\n\nPhone: (270) 885-8522\n\n\n 
URL:https://fathersofmercy.com/event/eucharistic-boost-4/
LOCATION:Sts. Peter and Paul Catholi Church\, Hopkinsville\, KY\, 902 E 9th St\, Hopkinsville\, KY\, 42240
ATTACH;FMTTYPE=image/jpeg:https://fathersofmercy.com/wp-content/uploads/2017/12/StsPeterPaulHopkinsvilleKY.jpg
GEO:36.8625739;-87.4814024
X-APPLE-STRUCTURED-LOCATION;VALUE=URI;X-ADDRESS=Sts. Peter and Paul Catholi Church Hopkinsville KY 902 E 9th St Hopkinsville KY 42240;X-APPLE-RADIUS=500;X-TITLE=902 E 9th St:geo:-87.4814024,36.8625739
END:VEVENT
END:VCALENDAR