BEGIN:VCALENDAR
VERSION:2.0
PRODID:-//The Fathers of Mercy - ECPv6.15.18//NONSGML v1.0//EN
CALSCALE:GREGORIAN
METHOD:PUBLISH
X-ORIGINAL-URL:https://fathersofmercy.com
X-WR-CALDESC:Events for The Fathers of Mercy
REFRESH-INTERVAL;VALUE=DURATION:PT1H
X-Robots-Tag:noindex
X-PUBLISHED-TTL:PT1H
BEGIN:VTIMEZONE
TZID:America/Chicago
BEGIN:DAYLIGHT
TZOFFSETFROM:-0600
TZOFFSETTO:-0500
TZNAME:CDT
DTSTART:20220313T080000
END:DAYLIGHT
BEGIN:STANDARD
TZOFFSETFROM:-0500
TZOFFSETTO:-0600
TZNAME:CST
DTSTART:20221106T070000
END:STANDARD
BEGIN:DAYLIGHT
TZOFFSETFROM:-0600
TZOFFSETTO:-0500
TZNAME:CDT
DTSTART:20230312T080000
END:DAYLIGHT
BEGIN:STANDARD
TZOFFSETFROM:-0500
TZOFFSETTO:-0600
TZNAME:CST
DTSTART:20231105T070000
END:STANDARD
BEGIN:DAYLIGHT
TZOFFSETFROM:-0600
TZOFFSETTO:-0500
TZNAME:CDT
DTSTART:20240310T080000
END:DAYLIGHT
BEGIN:STANDARD
TZOFFSETFROM:-0500
TZOFFSETTO:-0600
TZNAME:CST
DTSTART:20241103T070000
END:STANDARD
END:VTIMEZONE
BEGIN:VEVENT
DTSTART;VALUE=DATE:20230602
DTEND;VALUE=DATE:20230605
DTSTAMP:20260421T071917
CREATED:20230302T181126Z
LAST-MODIFIED:20230302T181601Z
UID:10001231-1685664000-1685923199@fathersofmercy.com
SUMMARY:RACHEL'S VINEYARD WEEKEND RETREAT\, NASHVILLE AREA\, CONTACT: RITA 270-474-4707
DESCRIPTION:RACHEL’S VINEYARD WEEKEND RETREAT\, NASHVILLE AREA\, CONTACT: RITA 270-474-4707
URL:https://fathersofmercy.com/event/rachels-vineyard-retreat-weekend/
LOCATION:MO
CATEGORIES:Retreat
ATTACH;FMTTYPE=image/jpeg:https://fathersofmercy.com/wp-content/uploads/2023/03/RACHELS-VINEYARD-WEEKEND-RETREAT.jpg
END:VEVENT
BEGIN:VEVENT
DTSTART;VALUE=DATE:20230604
DTEND;VALUE=DATE:20230611
DTSTAMP:20260421T071917
CREATED:20230210T121705Z
LAST-MODIFIED:20230210T121705Z
UID:10001230-1685836800-1686441599@fathersofmercy.com
SUMMARY:RETREAT\, Sisters of St. Francis of Perpetual Adoration\, Mishawaka\, IN
DESCRIPTION:Sisters of St. Francis of Perpetual Adoration\, Mishawaka\, Indiana
URL:https://fathersofmercy.com/event/retreat-sisters-of-st-francis-of-perpetual-adoration-mishawaka-in-2/
LOCATION:Sisters of St. Francis of Perpetual Adoration\, 1515 W Dragoon Trail\, Mishawaka\, IN\, 46546\, United States
CATEGORIES:Retreat
ATTACH;FMTTYPE=image/jpeg:https://fathersofmercy.com/wp-content/uploads/2023/02/Sisters-of-St.-Francis-of-Perpetual-Adoration-Mishawaka-Indiana.jpg
GEO:41.6471269;-86.2002108
X-APPLE-STRUCTURED-LOCATION;VALUE=URI;X-ADDRESS=Sisters of St. Francis of Perpetual Adoration 1515 W Dragoon Trail Mishawaka IN 46546 United States;X-APPLE-RADIUS=500;X-TITLE=1515 W Dragoon Trail:geo:-86.2002108,41.6471269
END:VEVENT
BEGIN:VEVENT
DTSTART;VALUE=DATE:20230610
DTEND;VALUE=DATE:20230616
DTSTAMP:20260421T071917
CREATED:20230304T163827Z
LAST-MODIFIED:20230304T163827Z
UID:10001015-1686355200-1686873599@fathersofmercy.com
SUMMARY:PARISH MISSION\, St. Helen Catholic Church\, Glasgow\, KY
DESCRIPTION:St. Helen Catholic Church\, Glasgow\, Kentucky
URL:https://fathersofmercy.com/event/parish-mission-st-helen-catholic-church-glasgow-ky/
LOCATION:St. Helen Catholic Church\, 2700 E University Avenue\, Georgetown\, TX\, 78626\, United States
CATEGORIES:Mission
ATTACH;FMTTYPE=image/jpeg:https://fathersofmercy.com/wp-content/uploads/2022/09/St.-Helen-Glasgow-KY-scaled.jpeg
GEO:36.9927371;-85.914002
X-APPLE-STRUCTURED-LOCATION;VALUE=URI;X-ADDRESS=St. Helen Catholic Church 2700 E University Avenue Georgetown TX 78626 United States;X-APPLE-RADIUS=500;X-TITLE=2700 E University Avenue:geo:-85.914002,36.9927371
END:VEVENT
BEGIN:VEVENT
DTSTART;VALUE=DATE:20230610
DTEND;VALUE=DATE:20230616
DTSTAMP:20260421T071917
CREATED:20230304T170706Z
LAST-MODIFIED:20230304T171229Z
UID:10001017-1686355200-1686873599@fathersofmercy.com
SUMMARY:PARISH MISSION\, St. Mary & St. Joseph\, Lanesville\, IN
DESCRIPTION:St. Mary & St. Joseph\, Lanesville\, Indiana
URL:https://fathersofmercy.com/event/parish-mission-st-mary-st-joseph-lanesville-in/
LOCATION:St. Mary Catholic Church\, 600 N.Liberty St.\, Independence\, MO\, 64050\, United States
CATEGORIES:Mission
ATTACH;FMTTYPE=image/jpeg:https://fathersofmercy.com/wp-content/uploads/2023/03/St.-Mary-Catholic-Church-Lanesville-IN.jpg
GEO:44.3269602;-88.5372713
X-APPLE-STRUCTURED-LOCATION;VALUE=URI;X-ADDRESS=St. Mary Catholic Church 600 N.Liberty St. Independence MO 64050 United States;X-APPLE-RADIUS=500;X-TITLE=600 N.Liberty St.:geo:-88.5372713,44.3269602
END:VEVENT
BEGIN:VEVENT
DTSTART;VALUE=DATE:20230616
DTEND;VALUE=DATE:20230618
DTSTAMP:20260421T071917
CREATED:20230304T173253Z
LAST-MODIFIED:20230304T173253Z
UID:10001019-1686873600-1687046399@fathersofmercy.com
SUMMARY:MARIAN CONFERENCE\, St. John LaLande Catholic Church\, Blue Springs\, MO
DESCRIPTION:St. John LaLande Catholic Church\, Blue Springs\, Missouri
URL:https://fathersofmercy.com/event/marian-conference-st-john-lalande-catholic-church-blue-springs-mo/
LOCATION:St. John LaLande Catholic Church\, 805 NW R.D. Mize Road\, Blue Springs\, MO\, 64015\, United States
CATEGORIES:Conference
ATTACH;FMTTYPE=image/webp:https://fathersofmercy.com/wp-content/uploads/2023/03/St.-John-LaLande-Catholic-Church.webp
GEO:39.0244541;-94.2741194
X-APPLE-STRUCTURED-LOCATION;VALUE=URI;X-ADDRESS=St. John LaLande Catholic Church 805 NW R.D. Mize Road Blue Springs MO 64015 United States;X-APPLE-RADIUS=500;X-TITLE=805 NW R.D. Mize Road:geo:-94.2741194,39.0244541
END:VEVENT
BEGIN:VEVENT
DTSTART;VALUE=DATE:20230623
DTEND;VALUE=DATE:20230628
DTSTAMP:20260421T071917
CREATED:20230318T005914Z
LAST-MODIFIED:20230318T005914Z
UID:10001023-1687478400-1687910399@fathersofmercy.com
SUMMARY:OUR LADY OF PERPETUAL HELP NOVENA\, Holy Family & St. Alphonsus Parishes\, Davenport\, IA
DESCRIPTION:OUR LADY OF PERPETUAL HELP NOVENA\, Holy Family & St. Alphonsus Parishes\, Davenport\, Iowa
URL:https://fathersofmercy.com/event/our-lady-of-perpetual-help-novena-holy-family-st-alphonsus-parishes-davenport-ia/
LOCATION:Holy Family Catholic Church\, 4490 Mountain Vista St.\, Las Vegas\, NV\, 89121\, United States
CATEGORIES:Novena
ATTACH;FMTTYPE=image/jpeg:https://fathersofmercy.com/wp-content/uploads/2023/03/Holy-Family-Catholic-Church-Davenport-IA.jpg
GEO:29.3957022;-82.4850901
X-APPLE-STRUCTURED-LOCATION;VALUE=URI;X-ADDRESS=Holy Family Catholic Church 4490 Mountain Vista St. Las Vegas NV 89121 United States;X-APPLE-RADIUS=500;X-TITLE=4490 Mountain Vista St.:geo:-82.4850901,29.3957022
END:VEVENT
END:VCALENDAR