BEGIN:VCALENDAR
VERSION:2.0
PRODID:-//The Fathers of Mercy - ECPv6.15.18//NONSGML v1.0//EN
CALSCALE:GREGORIAN
METHOD:PUBLISH
X-ORIGINAL-URL:https://fathersofmercy.com
X-WR-CALDESC:Events for The Fathers of Mercy
REFRESH-INTERVAL;VALUE=DURATION:PT1H
X-Robots-Tag:noindex
X-PUBLISHED-TTL:PT1H
BEGIN:VTIMEZONE
TZID:America/Chicago
BEGIN:DAYLIGHT
TZOFFSETFROM:-0600
TZOFFSETTO:-0500
TZNAME:CDT
DTSTART:20220313T080000
END:DAYLIGHT
BEGIN:STANDARD
TZOFFSETFROM:-0500
TZOFFSETTO:-0600
TZNAME:CST
DTSTART:20221106T070000
END:STANDARD
BEGIN:DAYLIGHT
TZOFFSETFROM:-0600
TZOFFSETTO:-0500
TZNAME:CDT
DTSTART:20230312T080000
END:DAYLIGHT
BEGIN:STANDARD
TZOFFSETFROM:-0500
TZOFFSETTO:-0600
TZNAME:CST
DTSTART:20231105T070000
END:STANDARD
BEGIN:DAYLIGHT
TZOFFSETFROM:-0600
TZOFFSETTO:-0500
TZNAME:CDT
DTSTART:20240310T080000
END:DAYLIGHT
BEGIN:STANDARD
TZOFFSETFROM:-0500
TZOFFSETTO:-0600
TZNAME:CST
DTSTART:20241103T070000
END:STANDARD
BEGIN:DAYLIGHT
TZOFFSETFROM:-0600
TZOFFSETTO:-0500
TZNAME:CDT
DTSTART:20250309T080000
END:DAYLIGHT
BEGIN:STANDARD
TZOFFSETFROM:-0500
TZOFFSETTO:-0600
TZNAME:CST
DTSTART:20251102T070000
END:STANDARD
BEGIN:DAYLIGHT
TZOFFSETFROM:-0600
TZOFFSETTO:-0500
TZNAME:CDT
DTSTART:20260308T080000
END:DAYLIGHT
BEGIN:STANDARD
TZOFFSETFROM:-0500
TZOFFSETTO:-0600
TZNAME:CST
DTSTART:20261101T070000
END:STANDARD
END:VTIMEZONE
BEGIN:VEVENT
DTSTART;VALUE=DATE:20250718
DTEND;VALUE=DATE:20250725
DTSTAMP:20260422T092548
CREATED:20250422T142724Z
LAST-MODIFIED:20250422T142724Z
UID:10001443-1752796800-1753401599@fathersofmercy.com
SUMMARY:NOVENA\, St. Ann Church & Shrine\, Metairie\, LA
DESCRIPTION:St. Ann Church & Shrine\, Metairie\, Louisiana
URL:https://fathersofmercy.com/event/novena-st-ann-church-shrine-metairie-la/
LOCATION:St. Ann Church & Shrine\, Church: 3601 Transcontinental Drive\, Office: 4940 Meadowdale Street\, Metairie\, LA\, 70006\, United States
CATEGORIES:Novena
ATTACH;FMTTYPE=image/jpeg:https://fathersofmercy.com/wp-content/uploads/2025/04/St.-Ann-Church-Shrine-Metairie-LA.jpg
GEO:30.0087055;-90.1955859
X-APPLE-STRUCTURED-LOCATION;VALUE=URI;X-ADDRESS=St. Ann Church & Shrine Church: 3601 Transcontinental Drive Office: 4940 Meadowdale Street Metairie LA 70006 United States;X-APPLE-RADIUS=500;X-TITLE=Church: 3601 Transcontinental Drive\, Office: 4940 Meadowdale Street:geo:-90.1955859,30.0087055
END:VEVENT
BEGIN:VEVENT
DTSTART;VALUE=DATE:20240720
DTEND;VALUE=DATE:20240727
DTSTAMP:20260422T092548
CREATED:20240405T192749Z
LAST-MODIFIED:20240405T192749Z
UID:10001341-1721433600-1722038399@fathersofmercy.com
SUMMARY:NOVENA\, St. Anne Shrine of Fall River\, Fall River\, MA
DESCRIPTION:St. Anne Shrine of Fall River\, Fall River\, Massachusetts
URL:https://fathersofmercy.com/event/novena-st-anne-shrine-of-fall-river-fall-river-ma/
LOCATION:St. Anne Shrine of Fall River\, 818 Middle Street\, Fall River\, MA\, 02721\, United States
CATEGORIES:Novena
ATTACH;FMTTYPE=image/webp:https://fathersofmercy.com/wp-content/uploads/2024/04/St.-Anne-Shrine-of-Fall-River-Fall-River-MA.webp
GEO:41.6937663;-71.1636084
X-APPLE-STRUCTURED-LOCATION;VALUE=URI;X-ADDRESS=St. Anne Shrine of Fall River 818 Middle Street Fall River MA 02721 United States;X-APPLE-RADIUS=500;X-TITLE=818 Middle Street:geo:-71.1636084,41.6937663
END:VEVENT
BEGIN:VEVENT
DTSTART;VALUE=DATE:20230720
DTEND;VALUE=DATE:20230727
DTSTAMP:20260422T092548
CREATED:20230415T011358Z
LAST-MODIFIED:20230415T011832Z
UID:10001029-1689811200-1690415999@fathersofmercy.com
SUMMARY:NOVENA\, St. Anne Shrine\, Fall River\, MA
DESCRIPTION:St. Anne Shrine\, Fall River\, Massachusetts
URL:https://fathersofmercy.com/event/novena-st-anne-shrine-fall-river-ma/
LOCATION:St. Anne Shrine\, 1818 Middle Street\, Fall River\, MA\, 02721\, United States
CATEGORIES:Novena
ATTACH;FMTTYPE=image/webp:https://fathersofmercy.com/wp-content/uploads/2023/04/St.-Anne-Shrine-Fall-River-MA.webp
GEO:41.6925843;-71.1591634
X-APPLE-STRUCTURED-LOCATION;VALUE=URI;X-ADDRESS=St. Anne Shrine 1818 Middle Street Fall River MA 02721 United States;X-APPLE-RADIUS=500;X-TITLE=1818 Middle Street:geo:-71.1591634,41.6925843
END:VEVENT
BEGIN:VEVENT
DTSTART;VALUE=DATE:20230623
DTEND;VALUE=DATE:20230628
DTSTAMP:20260422T092548
CREATED:20230318T005914Z
LAST-MODIFIED:20230318T005914Z
UID:10001023-1687478400-1687910399@fathersofmercy.com
SUMMARY:OUR LADY OF PERPETUAL HELP NOVENA\, Holy Family & St. Alphonsus Parishes\, Davenport\, IA
DESCRIPTION:OUR LADY OF PERPETUAL HELP NOVENA\, Holy Family & St. Alphonsus Parishes\, Davenport\, Iowa
URL:https://fathersofmercy.com/event/our-lady-of-perpetual-help-novena-holy-family-st-alphonsus-parishes-davenport-ia/
LOCATION:Holy Family Catholic Church\, 4490 Mountain Vista St.\, Las Vegas\, NV\, 89121\, United States
CATEGORIES:Novena
ATTACH;FMTTYPE=image/jpeg:https://fathersofmercy.com/wp-content/uploads/2023/03/Holy-Family-Catholic-Church-Davenport-IA.jpg
GEO:29.3957022;-82.4850901
X-APPLE-STRUCTURED-LOCATION;VALUE=URI;X-ADDRESS=Holy Family Catholic Church 4490 Mountain Vista St. Las Vegas NV 89121 United States;X-APPLE-RADIUS=500;X-TITLE=4490 Mountain Vista St.:geo:-82.4850901,29.3957022
END:VEVENT
END:VCALENDAR